BEGIN:VCALENDAR
VERSION:2.0
PRODID:-//SDP Kaarina - ECPv6.11.1//NONSGML v1.0//EN
CALSCALE:GREGORIAN
METHOD:PUBLISH
X-ORIGINAL-URL:https://sdpkaarina.fi
X-WR-CALDESC:Tapahtumat SDP Kaarina
REFRESH-INTERVAL;VALUE=DURATION:PT1H
X-Robots-Tag:noindex
X-PUBLISHED-TTL:PT1H
BEGIN:VTIMEZONE
TZID:Europe/Helsinki
BEGIN:DAYLIGHT
TZOFFSETFROM:+0200
TZOFFSETTO:+0300
TZNAME:EEST
DTSTART:20220327T010000
END:DAYLIGHT
BEGIN:STANDARD
TZOFFSETFROM:+0300
TZOFFSETTO:+0200
TZNAME:EET
DTSTART:20221030T010000
END:STANDARD
END:VTIMEZONE
BEGIN:VEVENT
DTSTART;TZID=Europe/Helsinki:20220827T100000
DTEND;TZID=Europe/Helsinki:20220827T150000
DTSTAMP:20260423T012638
CREATED:20220823T194534Z
LAST-MODIFIED:20220823T194629Z
UID:3618-1661594400-1661612400@sdpkaarina.fi
SUMMARY:Valkeavuoren liikuntahallin avajaiset
DESCRIPTION:Liikuntahallin avajaisia juhlitaan lauantaina 27.8.2022 klo 10-15.\nOhjelma: \nKlo 10-11\nMinilystikäs liikuntahallissa \nKlo 11.30\nValkeavuoren koulun kuoro \nKlo 12-\nAvajaistervehdykset\nTiede- ja kulttuuriministeri Petri Honkonen\, videotervehdys\nKaarinan kaupunginhallituksen puheenjohtaja Anne-Mari Virolainen \nProsenttitaiteen esittely\nTurun Taiteilijaseuran puheenjohtaja Johanna Sinkkonen\nTaiteilijat Toni Hautamäki ja Tiina Vainio \nTanssiesitys\nArkipelagin tanssiryhmät \nKuntaministerin tervehdys\nKuntaministeri Sirpa Paatero \nValkeavuoren koulun kuoro \nSeuraesittelyjä on koko päivän ajan sisällä ja ulkona. Mukana ovat ainakin Kaarinan Nappulat\, Kaarinan Kiekkopojat\, HCIK\, SBS Littoinen\, URA Basket\, Kaarinan Pojat\, Kaarinan Voimistelijat\, LTU lentopallo\, Kaarinan URA\, Piikkiön Kehitys\, LTU jalkapallo ja futsal jaosto\, La’Team ry ja Musiikkiopisto Arkipelag. \n\nSBS Littoisen salibandy\, KaKiPo ja HCIK jääkiekon laukaisututka\, Kaapo ilmatäytteinen jalkapallokenttä sekä Ura Basket koripallon heittokorit Valkeavuoren koulun pihalla\nKaana jalkapallon temppurata yläkentällä\nLTU jalkapallo ja futsal jaosto sisähallissa klo 13.30 alkaen\nLa’team ry tanssiryhmä sisätiloissa\nKaarinan voimistelijat ohjatut jumpat yläkerran jumppatilassa klo 14 Muokkausta keholla ja klo 14.30 Kehonhuolto\n\nKaarinan kaupungin kulttuuripalvelut\, liikuntapalvelut\, Kansalaisopisto\, Kaarinan lukio ja lukion aikuislinja sekä Visit Kaarina esittelevät toimintaansa omilla ständeillään ja nuorisopalveluiden Nugipakuun voi tutustua pihalla. \nKaaPo Leidit tarjoilevat kahvia ja pullaa liikuntahallin kahviossa. \nTapahtuma maksuton
URL:https://sdpkaarina.fi/tapahtumat/valkeavuoren-liikuntahallin-avajaiset/
END:VEVENT
END:VCALENDAR