BEGIN:VCALENDAR
VERSION:2.0
PRODID:-//SDP Kaarina - ECPv6.11.1//NONSGML v1.0//EN
CALSCALE:GREGORIAN
METHOD:PUBLISH
X-WR-CALNAME:SDP Kaarina
X-ORIGINAL-URL:https://sdpkaarina.fi
X-WR-CALDESC:Tapahtumat SDP Kaarina
REFRESH-INTERVAL;VALUE=DURATION:PT1H
X-Robots-Tag:noindex
X-PUBLISHED-TTL:PT1H
BEGIN:VTIMEZONE
TZID:Europe/Helsinki
BEGIN:DAYLIGHT
TZOFFSETFROM:+0200
TZOFFSETTO:+0300
TZNAME:EEST
DTSTART:20220327T010000
END:DAYLIGHT
BEGIN:STANDARD
TZOFFSETFROM:+0300
TZOFFSETTO:+0200
TZNAME:EET
DTSTART:20221030T010000
END:STANDARD
END:VTIMEZONE
BEGIN:VEVENT
DTSTART;VALUE=DATE:20220915
DTEND;VALUE=DATE:20220916
DTSTAMP:20260422T192257
CREATED:20230823T194208Z
LAST-MODIFIED:20230109T181957Z
UID:3616-1663200000-1663286399@sdpkaarina.fi
SUMMARY:Ehdota Kaarina-mitalin ja Kaarinan ansiomerkin saajia 15.9. mennessä
DESCRIPTION:Kaarinan kaupunki jakaa vuosittain Kaarina-mitaleita ja Kaarinan ansiomerkkejä kuntalaisille ja yrityksille kiitokseksi ansiokkaasta työstä kaupunkilaisten hyväksi tai Kaarinaa hyvällä tavalla esille tuoneista toimista. Kuka tahansa kuntalainen voi tehdä ehdotuksen Kaarina-mitalin tai ansiomerkin saajaksi. \nKaarinan kaupunki pyytää ehdotuksia 15.9.2022 mennessä joko sähköisen lomakkeen tai paperilomakkeen kautta. \nTutustu ansiomerkkien myöntämisen edellytyksiin ja ehdota saajia sähköisesti tästä \nVoit noutaa paperilomakkeen Kaarinan tai Piikkiön palvelupisteistä: \n\nKaarinan palvelupiste Fiskari\, Kaarina-talo\, Lautakunnankatu 1\nPiikkiön palvelupiste\, Piikkiön kirjasto\, Hadvalantie 9
URL:https://sdpkaarina.fi/tapahtumat/ehdota-kaarina-mitalin-ja-kaarinan-ansiomerkin-saajia-15-9-mennessa/
END:VEVENT
END:VCALENDAR