BEGIN:VCALENDAR
VERSION:2.0
PRODID:-//SDP Kaarina - ECPv6.11.1//NONSGML v1.0//EN
CALSCALE:GREGORIAN
METHOD:PUBLISH
X-ORIGINAL-URL:https://sdpkaarina.fi
X-WR-CALDESC:Tapahtumat SDP Kaarina
REFRESH-INTERVAL;VALUE=DURATION:PT1H
X-Robots-Tag:noindex
X-PUBLISHED-TTL:PT1H
BEGIN:VTIMEZONE
TZID:Europe/Helsinki
BEGIN:DAYLIGHT
TZOFFSETFROM:+0200
TZOFFSETTO:+0300
TZNAME:EEST
DTSTART:20220327T010000
END:DAYLIGHT
BEGIN:STANDARD
TZOFFSETFROM:+0300
TZOFFSETTO:+0200
TZNAME:EET
DTSTART:20221030T010000
END:STANDARD
END:VTIMEZONE
BEGIN:VEVENT
DTSTART;TZID=Europe/Helsinki:20221104T170000
DTEND;TZID=Europe/Helsinki:20221104T200000
DTSTAMP:20260422T162441
CREATED:20221016T154856Z
LAST-MODIFIED:20221016T154856Z
UID:3666-1667581200-1667592000@sdpkaarina.fi
SUMMARY:Kunnallisjärjestön ylimääräinen talousarviokokous
DESCRIPTION:
URL:https://sdpkaarina.fi/tapahtumat/kunnallisjarjeston-ylimaarainen-talousarviokokous/
LOCATION:Kaarinatalo\, Lautakunnankatu 1\, Kaarina\, 20780\, Suomi
CATEGORIES:Kokous
END:VEVENT
END:VCALENDAR