BEGIN:VCALENDAR
VERSION:2.0
PRODID:-//SDP Kaarina - ECPv6.11.1//NONSGML v1.0//EN
CALSCALE:GREGORIAN
METHOD:PUBLISH
X-WR-CALNAME:SDP Kaarina
X-ORIGINAL-URL:https://sdpkaarina.fi
X-WR-CALDESC:Tapahtumat SDP Kaarina
REFRESH-INTERVAL;VALUE=DURATION:PT1H
X-Robots-Tag:noindex
X-PUBLISHED-TTL:PT1H
BEGIN:VTIMEZONE
TZID:Europe/Helsinki
BEGIN:DAYLIGHT
TZOFFSETFROM:+0200
TZOFFSETTO:+0300
TZNAME:EEST
DTSTART:20220327T010000
END:DAYLIGHT
BEGIN:STANDARD
TZOFFSETFROM:+0300
TZOFFSETTO:+0200
TZNAME:EET
DTSTART:20221030T010000
END:STANDARD
END:VTIMEZONE
BEGIN:VEVENT
DTSTART;TZID=Europe/Helsinki:20221201T180000
DTEND;TZID=Europe/Helsinki:20221201T200000
DTSTAMP:20260422T114334
CREATED:20220602T192659Z
LAST-MODIFIED:20221023T075241Z
UID:3573-1669917600-1669924800@sdpkaarina.fi
SUMMARY:Kunnallisjärjestön syyskokous
DESCRIPTION:Sääntömääräiset syyskokousasiat
URL:https://sdpkaarina.fi/tapahtumat/kunnallisjarjeston-syyskokous/
CATEGORIES:Kokous
END:VEVENT
END:VCALENDAR