BEGIN:VCALENDAR
VERSION:2.0
PRODID:-//SDP Kaarina - ECPv6.11.1//NONSGML v1.0//EN
CALSCALE:GREGORIAN
METHOD:PUBLISH
X-WR-CALNAME:SDP Kaarina
X-ORIGINAL-URL:https://sdpkaarina.fi
X-WR-CALDESC:Tapahtumat SDP Kaarina
REFRESH-INTERVAL;VALUE=DURATION:PT1H
X-Robots-Tag:noindex
X-PUBLISHED-TTL:PT1H
BEGIN:VTIMEZONE
TZID:Europe/Helsinki
BEGIN:DAYLIGHT
TZOFFSETFROM:+0200
TZOFFSETTO:+0300
TZNAME:EEST
DTSTART:20220327T010000
END:DAYLIGHT
BEGIN:STANDARD
TZOFFSETFROM:+0300
TZOFFSETTO:+0200
TZNAME:EET
DTSTART:20221030T010000
END:STANDARD
END:VTIMEZONE
BEGIN:VEVENT
DTSTART;TZID=Europe/Helsinki:20221006T183000
DTEND;TZID=Europe/Helsinki:20221006T203000
DTSTAMP:20260422T161651
CREATED:20220823T195133Z
LAST-MODIFIED:20220823T195133Z
UID:3624-1665081000-1665088200@sdpkaarina.fi
SUMMARY:TY Uurtaja ry syyskuun kk-kokous
DESCRIPTION:Hovirinnankoulussa kl 18.30-20.30
URL:https://sdpkaarina.fi/tapahtumat/ty-uurtaja-ry-syyskuun-kk-kokous/
CATEGORIES:Kokous
END:VEVENT
BEGIN:VEVENT
DTSTART;TZID=Europe/Helsinki:20221010T180000
DTEND;TZID=Europe/Helsinki:20221010T180000
DTSTAMP:20260422T161651
CREATED:20220531T183541Z
LAST-MODIFIED:20220531T183541Z
UID:3528-1665424800-1665424800@sdpkaarina.fi
SUMMARY:Kaupunginvaltuusto
DESCRIPTION:Asioina mm. vastaukset arviointikertomukseen ja talouden puolivuotisraportti. \nTule seuraamaan kokousta paikan päälle tai live streaminä netissä.
URL:https://sdpkaarina.fi/tapahtumat/kaupunginvaltuusto-3/
LOCATION:Kaarinatalo\, Lautakunnankatu 1\, Kaarina\, 20780\, Suomi
END:VEVENT
BEGIN:VEVENT
DTSTART;TZID=Europe/Helsinki:20221026T180000
DTEND;TZID=Europe/Helsinki:20221026T193000
DTSTAMP:20260422T161651
CREATED:20221016T155323Z
LAST-MODIFIED:20221023T074941Z
UID:3668-1666807200-1666812600@sdpkaarina.fi
SUMMARY:Kunnallisjärjestön talousarvioseminaari
DESCRIPTION:Ensi vuoden budjetin käsittely on alkanut\, nyt jäsenistöllä on mahdollisuuden osallistua edustajistolle suunnattuun talousarvioseminaariin Kaarina-talolla Kuusistonsalmi neuvottelutilassa\, \nkaupunginjohtaja Harri Virta esittelee kaupungin talousarvioehdotusta. Alustuksen jälkeen voi esittää kysymyksiä. \nKunnallisjärjestön edustajiston ylimääräinen talousarviokokous pidetään 4.11. Kaarina-talolla
URL:https://sdpkaarina.fi/tapahtumat/retki-eduskuntaan/
LOCATION:Kaarinatalo\, Lautakunnankatu 1\, Kaarina\, 20780\, Suomi
CATEGORIES:Kokous
END:VEVENT
END:VCALENDAR