BEGIN:VCALENDAR
VERSION:2.0
PRODID:-//SDP Kaarina - ECPv6.11.1//NONSGML v1.0//EN
CALSCALE:GREGORIAN
METHOD:PUBLISH
X-WR-CALNAME:SDP Kaarina
X-ORIGINAL-URL:https://sdpkaarina.fi
X-WR-CALDESC:Tapahtumat SDP Kaarina
REFRESH-INTERVAL;VALUE=DURATION:PT1H
X-Robots-Tag:noindex
X-PUBLISHED-TTL:PT1H
BEGIN:VTIMEZONE
TZID:Europe/Helsinki
BEGIN:DAYLIGHT
TZOFFSETFROM:+0200
TZOFFSETTO:+0300
TZNAME:EEST
DTSTART:20220327T010000
END:DAYLIGHT
BEGIN:STANDARD
TZOFFSETFROM:+0300
TZOFFSETTO:+0200
TZNAME:EET
DTSTART:20221030T010000
END:STANDARD
END:VTIMEZONE
BEGIN:VEVENT
DTSTART;TZID=Europe/Helsinki:20221103T183000
DTEND;TZID=Europe/Helsinki:20221103T203000
DTSTAMP:20260422T144500
CREATED:20220823T195339Z
LAST-MODIFIED:20220823T195339Z
UID:3626-1667500200-1667507400@sdpkaarina.fi
SUMMARY:TY Uurtaja ry marraskuun kk-kokous
DESCRIPTION:
URL:https://sdpkaarina.fi/tapahtumat/ty-uurtaja-ry-marraskuun-kk-kokous/
END:VEVENT
BEGIN:VEVENT
DTSTART;TZID=Europe/Helsinki:20221104T170000
DTEND;TZID=Europe/Helsinki:20221104T200000
DTSTAMP:20260422T144500
CREATED:20221016T154856Z
LAST-MODIFIED:20221016T154856Z
UID:3666-1667581200-1667592000@sdpkaarina.fi
SUMMARY:Kunnallisjärjestön ylimääräinen talousarviokokous
DESCRIPTION:
URL:https://sdpkaarina.fi/tapahtumat/kunnallisjarjeston-ylimaarainen-talousarviokokous/
LOCATION:Kaarinatalo\, Lautakunnankatu 1\, Kaarina\, 20780\, Suomi
CATEGORIES:Kokous
END:VEVENT
BEGIN:VEVENT
DTSTART;TZID=Europe/Helsinki:20221114T180000
DTEND;TZID=Europe/Helsinki:20221114T180000
DTSTAMP:20260422T144500
CREATED:20220531T183742Z
LAST-MODIFIED:20220531T183742Z
UID:3530-1668448800-1668448800@sdpkaarina.fi
SUMMARY:Kaupunginvaltuusto
DESCRIPTION:Asioina mm. talousarvio 2023 ja taloussuunnitelma 2023-2025 ja veroprosentit. \nTule seuraamaan kokousta paikan päälle tai live streaminä verkossa.
URL:https://sdpkaarina.fi/tapahtumat/kaupunginvaltuusto-4/
LOCATION:Kaarinatalo\, Lautakunnankatu 1\, Kaarina\, 20780\, Suomi
END:VEVENT
BEGIN:VEVENT
DTSTART;TZID=Europe/Helsinki:20221117T180000
DTEND;TZID=Europe/Helsinki:20221117T180000
DTSTAMP:20260422T144500
CREATED:20220602T192500Z
LAST-MODIFIED:20220602T192500Z
UID:3571-1668708000-1668708000@sdpkaarina.fi
SUMMARY:Kunnallisjärjestön hallitus
DESCRIPTION:Syyskokousta valmisteleva kokous
URL:https://sdpkaarina.fi/tapahtumat/kunnallisjarjeston-hallitus-2/
CATEGORIES:Kokous
END:VEVENT
END:VCALENDAR